BEGIN:VCALENDAR
VERSION:2.0
PRODID:-//Plone.org//NONSGML plone.app.event//EN
X-WR-TIMEZONE:Europe/Madrid
BEGIN:VEVENT
SUMMARY:Canvi climàtic i gestió de recursos hídrics
DTSTART;TZID=Europe/Madrid;VALUE=DATE-TIME:20260527T180000
DTEND;TZID=Europe/Madrid;VALUE=DATE-TIME:20260527T193000
DTSTAMP;VALUE=DATE-TIME:20260422T230315Z
UID:f5ca13e59eef4e1089dcdd8eee98a5a7@cultura.paeria.cat
CATEGORIES:Taula rodona,Territori
CREATED;VALUE=DATE-TIME:20260422T093717Z
DESCRIPTION:L’AIGUA\, UN DIÀLEG NECESSARI\nPASSAT\, PRESENT I FUTUR D
 ’UN RECURS ESSENCIAL
LAST-MODIFIED;VALUE=DATE-TIME:20260422T123526Z
URL:https://cultura.paeria.cat/ca/agenda/canvi-climatic-i-gestio-de-recurs
 os-hidrics
END:VEVENT
BEGIN:VTIMEZONE
TZID:Europe/Madrid
X-LIC-LOCATION:Europe/Madrid
BEGIN:DAYLIGHT
DTSTART;VALUE=DATE-TIME:20260329T030000
TZNAME:CEST
TZOFFSETFROM:+0100
TZOFFSETTO:+0200
END:DAYLIGHT
END:VTIMEZONE
END:VCALENDAR
