BEGIN:VCALENDAR
VERSION:2.0
PRODID:-//Plone.org//NONSGML plone.app.event//EN
X-WR-TIMEZONE:Europe/Madrid
BEGIN:VEVENT
SUMMARY:Concert Inaugural del 19è Fem Banda
DTSTART;TZID=Europe/Madrid;VALUE=DATE-TIME:20240704T190000
DTEND;TZID=Europe/Madrid;VALUE=DATE-TIME:20240704T201500
DTSTAMP;VALUE=DATE-TIME:20260422T081546Z
UID:a842e04e04964e0c86bad5dfc88d2221@cultura.paeria.cat
CATEGORIES:Música,Festivals
CREATED;VALUE=DATE-TIME:20240519T091800Z
DESCRIPTION:Concert a càrrec de la Banda Municipal de Lleida i la Banda d
 e Música de Valga
LAST-MODIFIED;VALUE=DATE-TIME:20240520T113149Z
URL:https://cultura.paeria.cat/ca/agenda/concert-inaugural-del-19e-fem-ban
 da-1
END:VEVENT
BEGIN:VTIMEZONE
TZID:Europe/Madrid
X-LIC-LOCATION:Europe/Madrid
BEGIN:DAYLIGHT
DTSTART;VALUE=DATE-TIME:20240331T030000
TZNAME:CEST
TZOFFSETFROM:+0100
TZOFFSETTO:+0200
END:DAYLIGHT
END:VTIMEZONE
END:VCALENDAR
