BEGIN:VCALENDAR
VERSION:2.0
PRODID:-//Plone.org//NONSGML plone.app.event//EN
X-WR-TIMEZONE:Europe/Madrid
BEGIN:VEVENT
SUMMARY:CONFERÈNCIA: ROMEU I JULIETA DE CHARLES GOUNOD (1818-1893)
DTSTART;TZID=Europe/Madrid;VALUE=DATE-TIME:20231011T180000
DTEND;TZID=Europe/Madrid;VALUE=DATE-TIME:20231011T190000
DTSTAMP;VALUE=DATE-TIME:20260422T201222Z
UID:0a26ade409aa40f5a3efb2a72ecfc4b7@cultura.paeria.cat
CREATED;VALUE=DATE-TIME:20231004T141108Z
LAST-MODIFIED;VALUE=DATE-TIME:20231115T121241Z
URL:https://cultura.paeria.cat/ca/agenda/conferencia-romeu-i-julieta-de-ch
 arles-gounod-1818-1893
END:VEVENT
BEGIN:VTIMEZONE
TZID:Europe/Madrid
X-LIC-LOCATION:Europe/Madrid
BEGIN:DAYLIGHT
DTSTART;VALUE=DATE-TIME:20230326T030000
TZNAME:CEST
TZOFFSETFROM:+0100
TZOFFSETTO:+0200
END:DAYLIGHT
END:VTIMEZONE
END:VCALENDAR
