BEGIN:VCALENDAR
VERSION:2.0
PRODID:-//Plone.org//NONSGML plone.app.event//EN
X-WR-TIMEZONE:Europe/Madrid
BEGIN:VEVENT
SUMMARY:Els rius en la cultura i l’educació
DTSTART;TZID=Europe/Madrid;VALUE=DATE-TIME:20260519T180000
DTEND;TZID=Europe/Madrid;VALUE=DATE-TIME:20260519T193000
DTSTAMP;VALUE=DATE-TIME:20260422T213333Z
UID:d70e23160d634cfea385f85afed07143@cultura.paeria.cat
CATEGORIES:Taula rodona,Territori
CREATED;VALUE=DATE-TIME:20260421T111259Z
DESCRIPTION:L’AIGUA\, UN DIÀLEG NECESSARI\nPASSAT\, PRESENT I FUTUR D
 ’UN RECURS ESSENCIAL
LAST-MODIFIED;VALUE=DATE-TIME:20260422T123201Z
URL:https://cultura.paeria.cat/ca/agenda/els-rius-en-la-cultura-i-l2019edu
 cacio
END:VEVENT
BEGIN:VTIMEZONE
TZID:Europe/Madrid
X-LIC-LOCATION:Europe/Madrid
BEGIN:DAYLIGHT
DTSTART;VALUE=DATE-TIME:20260329T030000
TZNAME:CEST
TZOFFSETFROM:+0100
TZOFFSETTO:+0200
END:DAYLIGHT
END:VTIMEZONE
END:VCALENDAR
