BEGIN:VCALENDAR
VERSION:2.0
PRODID:-//Plone.org//NONSGML plone.app.event//EN
X-WR-TIMEZONE:Europe/Madrid
BEGIN:VEVENT
SUMMARY:Exposició individual de l'artista Shigeyoshi Koyama
DTSTART;TZID=Europe/Madrid;VALUE=DATE-TIME:20240419T070000
DTEND;TZID=Europe/Madrid;VALUE=DATE-TIME:20240525T080000
DTSTAMP;VALUE=DATE-TIME:20260423T132932Z
UID:32b33b53fdef4d9581924a27f5f9b7b4@cultura.paeria.cat
CATEGORIES:Cultura,Exposicions
CREATED;VALUE=DATE-TIME:20240409T060030Z
DESCRIPTION:Shigeyoshi Koyama neix a Osaka (Japó) el 1940. A l’edat de 
 22 anys es va traslladar a Tòquio i és quan comença la seva trajectòri
 a artística.
LAST-MODIFIED;VALUE=DATE-TIME:20240409T075714Z
URL:https://cultura.paeria.cat/ca/agenda/exposicio-individual-de-lartista-
 shigeyoshi-koyama
END:VEVENT
BEGIN:VTIMEZONE
TZID:Europe/Madrid
X-LIC-LOCATION:Europe/Madrid
BEGIN:DAYLIGHT
DTSTART;VALUE=DATE-TIME:20240331T030000
TZNAME:CEST
TZOFFSETFROM:+0100
TZOFFSETTO:+0200
END:DAYLIGHT
END:VTIMEZONE
END:VCALENDAR
