BEGIN:VCALENDAR
VERSION:2.0
PRODID:-//Plone.org//NONSGML plone.app.event//EN
X-WR-TIMEZONE:Europe/Madrid
BEGIN:VEVENT
SUMMARY:Exposició individual de l'artista Tomiwa
DTSTART;TZID=Europe/Madrid;VALUE=DATE-TIME:20240531T070000
DTEND;TZID=Europe/Madrid;VALUE=DATE-TIME:20240630T080000
DTSTAMP;VALUE=DATE-TIME:20260420T222936Z
UID:7695269baca44a32a068b68088816330@cultura.paeria.cat
CATEGORIES:Cultura,Exposicions
CREATED;VALUE=DATE-TIME:20240409T061143Z
DESCRIPTION:Tomiwa\, Arobieke\, neix l'any 1999. Neix a l'estat d'Ogun a N
 igèria. Ha focalitzat la seva trajectòria professional com a artista pro
 fessional.
LAST-MODIFIED;VALUE=DATE-TIME:20240409T075852Z
URL:https://cultura.paeria.cat/ca/agenda/exposicio-individual-de-lartista-
 tomiwa
END:VEVENT
BEGIN:VTIMEZONE
TZID:Europe/Madrid
X-LIC-LOCATION:Europe/Madrid
BEGIN:DAYLIGHT
DTSTART;VALUE=DATE-TIME:20240331T030000
TZNAME:CEST
TZOFFSETFROM:+0100
TZOFFSETTO:+0200
END:DAYLIGHT
END:VTIMEZONE
END:VCALENDAR
