BEGIN:VCALENDAR
VERSION:2.0
PRODID:-//Plone.org//NONSGML plone.app.event//EN
X-WR-TIMEZONE:Europe/Madrid
BEGIN:VEVENT
SUMMARY:Històries de sorra i arpa
DTSTART;TZID=Europe/Madrid;VALUE=DATE-TIME:20260526T180000
DTEND;TZID=Europe/Madrid;VALUE=DATE-TIME:20260526T193000
DTSTAMP;VALUE=DATE-TIME:20260423T172026Z
UID:19d09240816e4f47b883048cd86b3df2@cultura.paeria.cat
CATEGORIES:Espectacle,Territori
CREATED;VALUE=DATE-TIME:20260422T112535Z
DESCRIPTION:L’AIGUA\, UN DIÀLEG NECESSARI\nPASSAT\, PRESENT I FUTUR D
 ’UN RECURS ESSENCIAL
LAST-MODIFIED;VALUE=DATE-TIME:20260422T123700Z
URL:https://cultura.paeria.cat/ca/agenda/histories-de-sorra-i-arpa
END:VEVENT
BEGIN:VTIMEZONE
TZID:Europe/Madrid
X-LIC-LOCATION:Europe/Madrid
BEGIN:DAYLIGHT
DTSTART;VALUE=DATE-TIME:20260329T030000
TZNAME:CEST
TZOFFSETFROM:+0100
TZOFFSETTO:+0200
END:DAYLIGHT
END:VTIMEZONE
END:VCALENDAR
