BEGIN:VCALENDAR
VERSION:2.0
PRODID:-//Plone.org//NONSGML plone.app.event//EN
X-WR-TIMEZONE:Europe/Madrid
BEGIN:VEVENT
SUMMARY:IOGA A LA SEU VELLA
DTSTART;TZID=Europe/Madrid;VALUE=DATE-TIME:20260610T203000
DTEND;TZID=Europe/Madrid;VALUE=DATE-TIME:20260610T213000
DTSTAMP;VALUE=DATE-TIME:20260424T063056Z
UID:08e4e0fd0971495cb2107d8ba8887396@cultura.paeria.cat
CATEGORIES:Benestar,Esport
CREATED;VALUE=DATE-TIME:20260423T082941Z
DESCRIPTION:Activitat adreçada a tothom que vulgui relaxar-se en un marc 
 arquitectònic incomparable.
LAST-MODIFIED;VALUE=DATE-TIME:20260423T083220Z
URL:https://cultura.paeria.cat/ca/agenda/ioga-a-la-seu-vella-8
END:VEVENT
BEGIN:VTIMEZONE
TZID:Europe/Madrid
X-LIC-LOCATION:Europe/Madrid
BEGIN:DAYLIGHT
DTSTART;VALUE=DATE-TIME:20260329T030000
TZNAME:CEST
TZOFFSETFROM:+0100
TZOFFSETTO:+0200
END:DAYLIGHT
END:VTIMEZONE
END:VCALENDAR
