BEGIN:VCALENDAR
VERSION:2.0
PRODID:-//Plone.org//NONSGML plone.app.event//EN
X-WR-TIMEZONE:Europe/Madrid
BEGIN:VEVENT
SUMMARY:La mare és pura pluja
DTSTART;TZID=Europe/Madrid;VALUE=DATE-TIME:20260716T183000
DTEND;TZID=Europe/Madrid;VALUE=DATE-TIME:20260716T193000
DTSTAMP;VALUE=DATE-TIME:20260419T211454Z
UID:a3fcb0b90ddd4c87ae0921faca3046f8@cultura.paeria.cat
CATEGORIES:Audiovisuals,Familiar
CREATED;VALUE=DATE-TIME:20260409T100059Z
DESCRIPTION:Us presentem una selecció de dos curtmetratges plens de màgi
 a i tendresa que aborden la gestió de les emocions dels més menuts de ca
 sa.
LAST-MODIFIED;VALUE=DATE-TIME:20260413T132338Z
URL:https://cultura.paeria.cat/ca/agenda/la-mare-es-pura-pluja
END:VEVENT
BEGIN:VTIMEZONE
TZID:Europe/Madrid
X-LIC-LOCATION:Europe/Madrid
BEGIN:DAYLIGHT
DTSTART;VALUE=DATE-TIME:20260329T030000
TZNAME:CEST
TZOFFSETFROM:+0100
TZOFFSETTO:+0200
END:DAYLIGHT
END:VTIMEZONE
END:VCALENDAR
