BEGIN:VCALENDAR
VERSION:2.0
PRODID:-//Plone.org//NONSGML plone.app.event//EN
X-WR-TIMEZONE:Europe/Madrid
BEGIN:VEVENT
SUMMARY:On son? Desapareguts i fosses comunes de la Guerra Civil...
DTSTART;TZID=Europe/Madrid;VALUE=DATE-TIME:20241120T183000
DTEND;TZID=Europe/Madrid;VALUE=DATE-TIME:20241120T200000
DTSTAMP;VALUE=DATE-TIME:20260422T093404Z
UID:59e027ed0eba4fbd9e62a3c9fef8a7e2@cultura.paeria.cat
CATEGORIES:Cultura,Biblioteques
CREATED;VALUE=DATE-TIME:20241112T152642Z
DESCRIPTION:Xerrada "On son? Desapareguts i fosses comunes de la Guerra Ci
 vil a Catalunya"\, a càrrec de Queralt Solé.
LAST-MODIFIED;VALUE=DATE-TIME:20241113T130739Z
URL:https://cultura.paeria.cat/ca/agenda/on-son-desapareguts-i-fosses-comu
 nes-de-la-guerra-civil
END:VEVENT
BEGIN:VTIMEZONE
TZID:Europe/Madrid
X-LIC-LOCATION:Europe/Madrid
BEGIN:STANDARD
DTSTART;VALUE=DATE-TIME:20241027T020000
TZNAME:CET
TZOFFSETFROM:+0200
TZOFFSETTO:+0100
END:STANDARD
END:VTIMEZONE
END:VCALENDAR
