BEGIN:VCALENDAR
VERSION:2.0
PRODID:-//Plone.org//NONSGML plone.app.event//EN
X-WR-TIMEZONE:Europe/Madrid
BEGIN:VEVENT
SUMMARY:Parpadea dos veces
DTSTART;TZID=Europe/Madrid;VALUE=DATE-TIME:20251015T103000
DTEND;TZID=Europe/Madrid;VALUE=DATE-TIME:20251015T130000
DTSTAMP;VALUE=DATE-TIME:20260419T213840Z
UID:83801b7b6942424d8ea5d1fc2e49bce3@cultura.paeria.cat
CATEGORIES:Cultura,Audiovisuals
CREATED;VALUE=DATE-TIME:20250731T122425Z
DESCRIPTION:Una pel·lícula dirigida per Zoë Kravitz
LAST-MODIFIED;VALUE=DATE-TIME:20250731T123516Z
URL:https://cultura.paeria.cat/ca/agenda/parpadea-dos-veces
END:VEVENT
BEGIN:VTIMEZONE
TZID:Europe/Madrid
X-LIC-LOCATION:Europe/Madrid
BEGIN:DAYLIGHT
DTSTART;VALUE=DATE-TIME:20250330T030000
TZNAME:CEST
TZOFFSETFROM:+0100
TZOFFSETTO:+0200
END:DAYLIGHT
END:VTIMEZONE
END:VCALENDAR
