BEGIN:VCALENDAR
VERSION:2.0
PRODID:-//Plone.org//NONSGML plone.app.event//EN
X-WR-TIMEZONE:Europe/Madrid
BEGIN:VEVENT
SUMMARY:Pregó - Concert de la Festa de Moros i Cristians de Lleida
DTSTART;TZID=Europe/Madrid;VALUE=DATE-TIME:20260503T120000
DTEND;TZID=Europe/Madrid;VALUE=DATE-TIME:20260503T140000
DTSTAMP;VALUE=DATE-TIME:20260422T200853Z
UID:cdc7979064214056888d26d393c132f8@cultura.paeria.cat
CATEGORIES:Pregó,Tradicions,Festa ,Concert
CREATED;VALUE=DATE-TIME:20260407T120240Z
DESCRIPTION:L'Associació de la Festa de Moros i Cristians de Lleida organ
 itza el Pregó - Concert de la Festa 2026\,
LAST-MODIFIED;VALUE=DATE-TIME:20260407T172853Z
URL:https://cultura.paeria.cat/ca/agenda/prego-concert-de-la-festa-de-moro
 s-i-cristians-de-lleida
END:VEVENT
BEGIN:VTIMEZONE
TZID:Europe/Madrid
X-LIC-LOCATION:Europe/Madrid
BEGIN:DAYLIGHT
DTSTART;VALUE=DATE-TIME:20260329T030000
TZNAME:CEST
TZOFFSETFROM:+0100
TZOFFSETTO:+0200
END:DAYLIGHT
END:VTIMEZONE
END:VCALENDAR
