BEGIN:VCALENDAR
VERSION:2.0
PRODID:-//Plone.org//NONSGML plone.app.event//EN
X-WR-TIMEZONE:Europe/Madrid
BEGIN:VEVENT
SUMMARY:Ravel\, més enllà del seu bolero
DTSTART;TZID=Europe/Madrid;VALUE=DATE-TIME:20260514T190000
DTEND;TZID=Europe/Madrid;VALUE=DATE-TIME:20260514T200000
DTSTAMP;VALUE=DATE-TIME:20260422T081202Z
UID:334ad1873b884991bd5c376d7a178651@cultura.paeria.cat
CATEGORIES:Música,Conferència
CREATED;VALUE=DATE-TIME:20260407T081913Z
DESCRIPTION:A Maurice Ravel el coneixem\, sobretot\, pel seu Bolero\, obra
  de la qual ell mateix va renegar. Però quina és la clau de l’èxit d
 ’aquesta composició?
LAST-MODIFIED;VALUE=DATE-TIME:20260407T172038Z
URL:https://cultura.paeria.cat/ca/agenda/ravel-mes-enlla-del-seu-bolero
END:VEVENT
BEGIN:VTIMEZONE
TZID:Europe/Madrid
X-LIC-LOCATION:Europe/Madrid
BEGIN:DAYLIGHT
DTSTART;VALUE=DATE-TIME:20260329T030000
TZNAME:CEST
TZOFFSETFROM:+0100
TZOFFSETTO:+0200
END:DAYLIGHT
END:VTIMEZONE
END:VCALENDAR
