BEGIN:VCALENDAR
VERSION:2.0
PRODID:-//Plone.org//NONSGML plone.app.event//EN
X-WR-TIMEZONE:Europe/Madrid
BEGIN:VEVENT
SUMMARY:REG. Inundacions artístiques al Canal d’Urgell
DTSTART;TZID=Europe/Madrid;VALUE=DATE-TIME:20250525T110000
DTEND;TZID=Europe/Madrid;VALUE=DATE-TIME:20250525T130000
DTSTAMP;VALUE=DATE-TIME:20260422T144741Z
UID:182ed64c8daf4e3fa5311414c9fbabe6@cultura.paeria.cat
CATEGORIES:Cultura,Paisatge,Visites
CREATED;VALUE=DATE-TIME:20250522T081055Z
DESCRIPTION:Vorada
LAST-MODIFIED;VALUE=DATE-TIME:20250610T090158Z
URL:https://cultura.paeria.cat/ca/agenda/reg-inundacions-artistiques-al-ca
 nal-d2019urgell
END:VEVENT
BEGIN:VTIMEZONE
TZID:Europe/Madrid
X-LIC-LOCATION:Europe/Madrid
BEGIN:DAYLIGHT
DTSTART;VALUE=DATE-TIME:20250330T030000
TZNAME:CEST
TZOFFSETFROM:+0100
TZOFFSETTO:+0200
END:DAYLIGHT
END:VTIMEZONE
END:VCALENDAR
