BEGIN:VCALENDAR
VERSION:2.0
PRODID:-//Plone.org//NONSGML plone.app.event//EN
X-WR-TIMEZONE:Europe/Madrid
BEGIN:VEVENT
SUMMARY:Sant Jordi al Molí de Sant Anastasi
DTSTART;TZID=Europe/Madrid;VALUE=DATE-TIME:20250427T120000
DTEND;TZID=Europe/Madrid;VALUE=DATE-TIME:20250427T130000
DTSTAMP;VALUE=DATE-TIME:20260421T100408Z
UID:10a5d66961c741ccae638cbd1964b7f2@cultura.paeria.cat
CATEGORIES:Cultura,Teatre,Poesia
CREATED;VALUE=DATE-TIME:20250325T221539Z
DESCRIPTION:Celebrem Sant Jordi el diumenge al matí del dia 27/abril/2025
  amb el Grup de Teatre de la Bordeta a dins el Molí de Sant Anastasi
LAST-MODIFIED;VALUE=DATE-TIME:20250326T081613Z
URL:https://cultura.paeria.cat/ca/agenda/sant-jordi-al-moli-de-sant-anasta
 si-dg-27-04-2025
END:VEVENT
BEGIN:VTIMEZONE
TZID:Europe/Madrid
X-LIC-LOCATION:Europe/Madrid
BEGIN:DAYLIGHT
DTSTART;VALUE=DATE-TIME:20250330T030000
TZNAME:CEST
TZOFFSETFROM:+0100
TZOFFSETTO:+0200
END:DAYLIGHT
END:VTIMEZONE
END:VCALENDAR
