BEGIN:VCALENDAR
VERSION:2.0
PRODID:-//Plone.org//NONSGML plone.app.event//EN
X-WR-TIMEZONE:Europe/Madrid
BEGIN:VEVENT
SUMMARY:XXVII Festival ORGUES DE PONENT I DEL PIRINEU 2025
DTSTART;TZID=Europe/Madrid;VALUE=DATE-TIME:20250929T183000
DTEND;TZID=Europe/Madrid;VALUE=DATE-TIME:20250929T193000
DTSTAMP;VALUE=DATE-TIME:20260422T152923Z
UID:1474ba1bc7dd44408385095884f530a7@cultura.paeria.cat
CATEGORIES:Cultura,Música,Festival
CREATED;VALUE=DATE-TIME:20250901T214315Z
DESCRIPTION:Concert d'orgue sol a càrrec de Samuel P. Maíllo a l'esglés
 ia parroquial de Sant Llorenç
LAST-MODIFIED;VALUE=DATE-TIME:20250902T103058Z
URL:https://cultura.paeria.cat/ca/agenda/xxvii-festival-orgues-de-ponent-i
 -del-pirineu-2025-1
END:VEVENT
BEGIN:VTIMEZONE
TZID:Europe/Madrid
X-LIC-LOCATION:Europe/Madrid
BEGIN:DAYLIGHT
DTSTART;VALUE=DATE-TIME:20250330T030000
TZNAME:CEST
TZOFFSETFROM:+0100
TZOFFSETTO:+0200
END:DAYLIGHT
END:VTIMEZONE
END:VCALENDAR
