BEGIN:VCALENDAR
VERSION:2.0
PRODID:-//Plone.org//NONSGML plone.app.event//EN
X-WR-TIMEZONE:Europe/Madrid
BEGIN:VEVENT
SUMMARY:El Poder de la Llengua. Diada IEI25
DTSTART;TZID=Europe/Madrid;VALUE=DATE-TIME:20250908T183000
DTEND;TZID=Europe/Madrid;VALUE=DATE-TIME:20250908T200000
DTSTAMP;VALUE=DATE-TIME:20260423T023809Z
UID:4e22be57a6bf40ecb4008e17a58b1a61@cultura.paeria.cat
CATEGORIES:Català,Conferència,Cultura
CREATED;VALUE=DATE-TIME:20250901T074009Z
DESCRIPTION:És escriptor si no és persona? Una demostració literària d
 e creativitat artificial
LAST-MODIFIED;VALUE=DATE-TIME:20250901T095234Z
URL:https://cultura.paeria.cat/es/agenda/el-poder-de-la-llengua-diada-iei2
 5-1
END:VEVENT
BEGIN:VTIMEZONE
TZID:Europe/Madrid
X-LIC-LOCATION:Europe/Madrid
BEGIN:DAYLIGHT
DTSTART;VALUE=DATE-TIME:20250330T030000
TZNAME:CEST
TZOFFSETFROM:+0100
TZOFFSETTO:+0200
END:DAYLIGHT
END:VTIMEZONE
END:VCALENDAR
