BEGIN:VCALENDAR
VERSION:2.0
PRODID:-//Plone.org//NONSGML plone.app.event//EN
X-WR-TIMEZONE:Europe/Madrid
BEGIN:VEVENT
SUMMARY:El Romànic de la Vall de Boí i Natura i Abstracció
DTSTART;TZID=Europe/Madrid;VALUE=DATE-TIME:20260408T190000
DTEND;TZID=Europe/Madrid;VALUE=DATE-TIME:20260430T200000
DTSTAMP;VALUE=DATE-TIME:20260423T065114Z
UID:b0d6ec78574a442eaa32957ee1a4ea9f@cultura.paeria.cat
CATEGORIES:Exposicions,Art
CREATED;VALUE=DATE-TIME:20260407T172145Z
DESCRIPTION:El Romànic de la Vall de Boí i Natura i Abstracció. Andreu 
 Agustí i Gil
LAST-MODIFIED;VALUE=DATE-TIME:20260407T173050Z
URL:https://cultura.paeria.cat/es/agenda/el-romanic-de-la-vall-de-boi-i-na
 tura-i-abstraccio
END:VEVENT
BEGIN:VTIMEZONE
TZID:Europe/Madrid
X-LIC-LOCATION:Europe/Madrid
BEGIN:DAYLIGHT
DTSTART;VALUE=DATE-TIME:20260329T030000
TZNAME:CEST
TZOFFSETFROM:+0100
TZOFFSETTO:+0200
END:DAYLIGHT
END:VTIMEZONE
END:VCALENDAR
