BEGIN:VCALENDAR
VERSION:2.0
PRODID:-//Plone.org//NONSGML plone.app.event//EN
X-WR-TIMEZONE:Europe/Madrid
BEGIN:VEVENT
SUMMARY:Exposició “Escenes quotidianes i paisatges” de Sisco Renau
DTSTART;TZID=Europe/Madrid;VALUE=DATE-TIME:20260504T190000
DTEND;TZID=Europe/Madrid;VALUE=DATE-TIME:20260531T190000
DTSTAMP;VALUE=DATE-TIME:20260425T004916Z
UID:ba2d0a648d724a8a9fa5d1664d664a75@cultura.paeria.cat
CATEGORIES:Exposicions
CREATED;VALUE=DATE-TIME:20260421T102604Z
DESCRIPTION:Exposició “Escenes quotidianes i paisatges” de Sisco Rena
 u
LAST-MODIFIED;VALUE=DATE-TIME:20260422T122708Z
URL:https://cultura.paeria.cat/es/agenda/exposicio-201cescenes-quotidianes
 -i-paisatges201d-de-sisco-renau
END:VEVENT
BEGIN:VTIMEZONE
TZID:Europe/Madrid
X-LIC-LOCATION:Europe/Madrid
BEGIN:DAYLIGHT
DTSTART;VALUE=DATE-TIME:20260329T030000
TZNAME:CEST
TZOFFSETFROM:+0100
TZOFFSETTO:+0200
END:DAYLIGHT
END:VTIMEZONE
END:VCALENDAR
