BEGIN:VCALENDAR
VERSION:2.0
PRODID:-//Plone.org//NONSGML plone.app.event//EN
X-WR-TIMEZONE:Europe/Madrid
BEGIN:VEVENT
SUMMARY:EXPOSICIÓ FOTOGRAFIA "ELS ALTRES" RES NON VERBA
DTSTART;TZID=Europe/Madrid;VALUE=DATE-TIME:20240301T170000
DTEND;TZID=Europe/Madrid;VALUE=DATE-TIME:20240329T220000
DTSTAMP;VALUE=DATE-TIME:20260422T150017Z
UID:d7b0ce4223d04dde8641f130249e1e0d@cultura.paeria.cat
CATEGORIES:Cultura,Exposicions
CREATED;VALUE=DATE-TIME:20240311T165755Z
DESCRIPTION:Exposició fotogràfica a càrrec de Santi Llorens\, a la Sala
  RES NON VERBA .
LAST-MODIFIED;VALUE=DATE-TIME:20240312T105049Z
URL:https://cultura.paeria.cat/es/agenda/exposicio-fotografia-els-altres-r
 es-non-verba
END:VEVENT
BEGIN:VTIMEZONE
TZID:Europe/Madrid
X-LIC-LOCATION:Europe/Madrid
BEGIN:STANDARD
DTSTART;VALUE=DATE-TIME:20231029T020000
TZNAME:CET
TZOFFSETFROM:+0200
TZOFFSETTO:+0100
END:STANDARD
END:VTIMEZONE
END:VCALENDAR
